BEGIN:VCALENDAR
VERSION:2.0
PRODID:-//Universidad Autonoma Agraria Antonio Narro - ECPv5.16.4//NONSGML v1.0//EN
CALSCALE:GREGORIAN
METHOD:PUBLISH
X-ORIGINAL-URL:https://www.uaaan.edu.mx
X-WR-CALDESC:Events for Universidad Autonoma Agraria Antonio Narro
REFRESH-INTERVAL;VALUE=DURATION:PT1H
X-Robots-Tag:noindex
X-PUBLISHED-TTL:PT1H
BEGIN:VTIMEZONE
TZID:America/Monterrey
BEGIN:DAYLIGHT
TZOFFSETFROM:-0600
TZOFFSETTO:-0500
TZNAME:CDT
DTSTART:20220403T080000
END:DAYLIGHT
BEGIN:STANDARD
TZOFFSETFROM:-0500
TZOFFSETTO:-0600
TZNAME:CST
DTSTART:20221030T070000
END:STANDARD
END:VTIMEZONE
BEGIN:VEVENT
DTSTART;TZID=America/Monterrey:20220528T100000
DTEND;TZID=America/Monterrey:20220528T180000
DTSTAMP:20260423T020227
CREATED:20220523T175023Z
LAST-MODIFIED:20220523T175051Z
UID:6936-1653732000-1653760800@www.uaaan.edu.mx
SUMMARY:Encuentro de Futbol Americano
DESCRIPTION:
URL:https://www.uaaan.edu.mx/event/encuentro-de-futbol-americano/
LOCATION:Instalaciones Deportivas
ATTACH;FMTTYPE=image/png:https://www.uaaan.edu.mx/wp-content/uploads/2022/05/Buitre-1.png
END:VEVENT
END:VCALENDAR