BEGIN:VCALENDAR
VERSION:2.0
PRODID:-//Universidad Autonoma Agraria Antonio Narro - ECPv5.16.4//NONSGML v1.0//EN
CALSCALE:GREGORIAN
METHOD:PUBLISH
X-ORIGINAL-URL:https://www.uaaan.edu.mx
X-WR-CALDESC:Events for Universidad Autonoma Agraria Antonio Narro
REFRESH-INTERVAL;VALUE=DURATION:PT1H
X-Robots-Tag:noindex
X-PUBLISHED-TTL:PT1H
BEGIN:VTIMEZONE
TZID:America/Monterrey
BEGIN:DAYLIGHT
TZOFFSETFROM:-0600
TZOFFSETTO:-0500
TZNAME:CDT
DTSTART:20220403T080000
END:DAYLIGHT
BEGIN:STANDARD
TZOFFSETFROM:-0500
TZOFFSETTO:-0600
TZNAME:CST
DTSTART:20221030T070000
END:STANDARD
END:VTIMEZONE
BEGIN:VEVENT
DTSTART;VALUE=DATE:20220907
DTEND;VALUE=DATE:20220908
DTSTAMP:20260422T201310
CREATED:20220711T192110Z
LAST-MODIFIED:20220715T180031Z
UID:7342-1662508800-1662595199@www.uaaan.edu.mx
SUMMARY:Expo-UAAAN 2022
DESCRIPTION:poster Expo-UAAAN 2022 en el marco del centenario\n  \n \nDa Click  aqui para ver Video.
URL:https://www.uaaan.edu.mx/event/expo-uaaan-2022/
LOCATION:Coah.
ATTACH;FMTTYPE=image/png:https://www.uaaan.edu.mx/wp-content/uploads/2022/07/expo.png
END:VEVENT
BEGIN:VEVENT
DTSTART;TZID=America/Monterrey:20220907T080000
DTEND;TZID=America/Monterrey:20220909T210000
DTSTAMP:20260422T201310
CREATED:20220901T160200Z
LAST-MODIFIED:20220906T224514Z
UID:7606-1662537600-1662757200@www.uaaan.edu.mx
SUMMARY:Expo UAAAN 2022 del 7 al 9 de Septiembre del 2022
DESCRIPTION:
URL:https://www.uaaan.edu.mx/event/expo-uaaan-2022-2/
LOCATION:Coah.
ATTACH;FMTTYPE=image/png:https://www.uaaan.edu.mx/wp-content/uploads/2022/09/Expo-2022-Port-Eve.png
END:VEVENT
BEGIN:VEVENT
DTSTART;TZID=America/Monterrey:20220907T120000
DTEND;TZID=America/Monterrey:20220907T190000
DTSTAMP:20260422T201310
CREATED:20220901T161842Z
LAST-MODIFIED:20220906T222546Z
UID:7617-1662552000-1662577200@www.uaaan.edu.mx
SUMMARY:Inauguración Expo UAAAN 2022
DESCRIPTION: 
URL:https://www.uaaan.edu.mx/event/inauguracion/
LOCATION:Coah.
END:VEVENT
BEGIN:VEVENT
DTSTART;TZID=America/Monterrey:20220907T140000
DTEND;TZID=America/Monterrey:20220907T170000
DTSTAMP:20260422T201310
CREATED:20220901T162243Z
LAST-MODIFIED:20220901T162243Z
UID:7621-1662559200-1662570000@www.uaaan.edu.mx
SUMMARY:Ciclo de Conferencias
DESCRIPTION:
URL:https://www.uaaan.edu.mx/event/ciclo-de-conferencias/
LOCATION:Auditorio Ing. Carlos E. Martínez\, Calzada Antonio Narro 1923\, Saltillo\, Coahuila\, 25315\, México
END:VEVENT
END:VCALENDAR