BEGIN:VCALENDAR
VERSION:2.0
PRODID:-//Universidad Autonoma Agraria Antonio Narro - ECPv5.16.4//NONSGML v1.0//EN
CALSCALE:GREGORIAN
METHOD:PUBLISH
X-WR-CALNAME:Universidad Autonoma Agraria Antonio Narro
X-ORIGINAL-URL:https://www.uaaan.edu.mx
X-WR-CALDESC:Events for Universidad Autonoma Agraria Antonio Narro
REFRESH-INTERVAL;VALUE=DURATION:PT1H
X-Robots-Tag:noindex
X-PUBLISHED-TTL:PT1H
BEGIN:VTIMEZONE
TZID:America/Monterrey
BEGIN:DAYLIGHT
TZOFFSETFROM:-0600
TZOFFSETTO:-0500
TZNAME:CDT
DTSTART:20220403T080000
END:DAYLIGHT
BEGIN:STANDARD
TZOFFSETFROM:-0500
TZOFFSETTO:-0600
TZNAME:CST
DTSTART:20221030T070000
END:STANDARD
END:VTIMEZONE
BEGIN:VEVENT
DTSTART;TZID=America/Monterrey:20220913T120000
DTEND;TZID=America/Monterrey:20220913T140000
DTSTAMP:20260422T201144
CREATED:20220907T182025Z
LAST-MODIFIED:20220907T182025Z
UID:7734-1663070400-1663077600@www.uaaan.edu.mx
SUMMARY:Primer Mesa de la Economía Agrícola en el Campo Mexicano
DESCRIPTION:Invitación_Promoción_Mesa_Economía
URL:https://www.uaaan.edu.mx/event/primer-mesa-de-la-economia-agricola-en-el-campo-mexicano/
LOCATION:Coah.
END:VEVENT
END:VCALENDAR