BEGIN:VCALENDAR
VERSION:2.0
PRODID:-//Universidad Autonoma Agraria Antonio Narro - ECPv5.16.4//NONSGML v1.0//EN
CALSCALE:GREGORIAN
METHOD:PUBLISH
X-ORIGINAL-URL:https://www.uaaan.edu.mx
X-WR-CALDESC:Events for Universidad Autonoma Agraria Antonio Narro
REFRESH-INTERVAL;VALUE=DURATION:PT1H
X-Robots-Tag:noindex
X-PUBLISHED-TTL:PT1H
BEGIN:VTIMEZONE
TZID:America/Monterrey
BEGIN:DAYLIGHT
TZOFFSETFROM:-0600
TZOFFSETTO:-0500
TZNAME:CDT
DTSTART:20220403T080000
END:DAYLIGHT
BEGIN:STANDARD
TZOFFSETFROM:-0500
TZOFFSETTO:-0600
TZNAME:CST
DTSTART:20221030T070000
END:STANDARD
END:VTIMEZONE
BEGIN:VEVENT
DTSTART;TZID=America/Monterrey:20220926T080000
DTEND;TZID=America/Monterrey:20220930T200000
DTSTAMP:20260422T183003
CREATED:20220921T143702Z
LAST-MODIFIED:20220921T144042Z
UID:7860-1664179200-1664568000@www.uaaan.edu.mx
SUMMARY:II Semana Cultural del Departamento de Cs. Básicas y VI Simposio de Ingeniero en Biotecnología
DESCRIPTION:
URL:https://www.uaaan.edu.mx/event/ii-semana-cultural-del-departamento-de-cs-basicas-y-vi-simposio-de-ingeniero-en-biotecnologia/
LOCATION:Auditorio Ing. Eulalio Gutiérrez Treviño\, Saltillo\, Coah.\, México
END:VEVENT
BEGIN:VEVENT
DTSTART;TZID=America/Monterrey:20220926T090000
DTEND;TZID=America/Monterrey:20220926T133000
DTSTAMP:20260422T183003
CREATED:20220923T174410Z
LAST-MODIFIED:20220923T174410Z
UID:7931-1664182800-1664199000@www.uaaan.edu.mx
SUMMARY:2° Foro: Avances y Resultados de los Proyectos de Desarrollo 2022
DESCRIPTION:
URL:https://www.uaaan.edu.mx/event/2-foro-avances-y-resultados-de-los-proyectos-de-desarrollo-2022/
LOCATION:Auditorio de Postgrado\, Calzada Antonio Narro 1923\, Saltillo\, Coahuila\, 25315\, México
END:VEVENT
BEGIN:VEVENT
DTSTART;TZID=America/Monterrey:20220926T140000
DTEND;TZID=America/Monterrey:20220927T190000
DTSTAMP:20260422T183003
CREATED:20220921T154712Z
LAST-MODIFIED:20220921T154712Z
UID:7873-1664200800-1664305200@www.uaaan.edu.mx
SUMMARY:Curso -Taller: Extracción de componentes bioactivos por vía encimática y su aplicación en películas y empaques alimentarios
DESCRIPTION:
URL:https://www.uaaan.edu.mx/event/curso-taller-extraccion-de-componentes-bioactivos-por-via-encimatica-y-su-aplicacion-en-peliculas-y-empaques-alimentarios/
LOCATION:Departamento de Ciencia y Tecnología de Alimentos\, Calzada Antonio Narro 1923\, Saltillo\, Coahuila\, 25315\, México
END:VEVENT
END:VCALENDAR