BEGIN:VCALENDAR
VERSION:2.0
PRODID:-//Universidad Autonoma Agraria Antonio Narro - ECPv5.16.4//NONSGML v1.0//EN
CALSCALE:GREGORIAN
METHOD:PUBLISH
X-WR-CALNAME:Universidad Autonoma Agraria Antonio Narro
X-ORIGINAL-URL:https://www.uaaan.edu.mx
X-WR-CALDESC:Events for Universidad Autonoma Agraria Antonio Narro
REFRESH-INTERVAL;VALUE=DURATION:PT1H
X-Robots-Tag:noindex
X-PUBLISHED-TTL:PT1H
BEGIN:VTIMEZONE
TZID:America/Monterrey
BEGIN:STANDARD
TZOFFSETFROM:-0600
TZOFFSETTO:-0600
TZNAME:CST
DTSTART:20230101T000000
END:STANDARD
END:VTIMEZONE
BEGIN:VEVENT
DTSTART;VALUE=DATE:20230301
DTEND;VALUE=DATE:20230306
DTSTAMP:20260422T111427
CREATED:20230227T193314Z
LAST-MODIFIED:20230227T193314Z
UID:9044-1677628800-1678060799@www.uaaan.edu.mx
SUMMARY:Exposición\, Académica\, Científica\, Tecnológica y de Impacto Social Campesino
DESCRIPTION:
URL:https://www.uaaan.edu.mx/event/exposicion-academica-cientifica-tecnologica-y-de-impacto-social-campesino/
LOCATION:Biblioteca de la UAAAN\, Calzada Antonio Narro 1923\, Saltillo\, Coahuila\, 25315\, México
END:VEVENT
BEGIN:VEVENT
DTSTART;TZID=America/Monterrey:20230305T080000
DTEND;TZID=America/Monterrey:20230305T180000
DTSTAMP:20260422T111427
CREATED:20230227T204813Z
LAST-MODIFIED:20230227T210448Z
UID:9080-1678003200-1678039200@www.uaaan.edu.mx
SUMMARY:Carrera del Centenario 5K; Actividades Deportivas\, Artistísticas y Culturales
DESCRIPTION:
URL:https://www.uaaan.edu.mx/event/carrera-del-centenario-5k-actividades-deportivas-artististicas-y-culturales/
LOCATION:Coah.
END:VEVENT
END:VCALENDAR