BEGIN:VCALENDAR
VERSION:2.0
PRODID:-//Universidad Autonoma Agraria Antonio Narro - ECPv5.16.4//NONSGML v1.0//EN
CALSCALE:GREGORIAN
METHOD:PUBLISH
X-WR-CALNAME:Universidad Autonoma Agraria Antonio Narro
X-ORIGINAL-URL:https://www.uaaan.edu.mx
X-WR-CALDESC:Events for Universidad Autonoma Agraria Antonio Narro
REFRESH-INTERVAL;VALUE=DURATION:PT1H
X-Robots-Tag:noindex
X-PUBLISHED-TTL:PT1H
BEGIN:VTIMEZONE
TZID:America/Monterrey
BEGIN:STANDARD
TZOFFSETFROM:-0600
TZOFFSETTO:-0600
TZNAME:CST
DTSTART:20230101T000000
END:STANDARD
END:VTIMEZONE
BEGIN:VEVENT
DTSTART;TZID=America/Monterrey:20230505T100000
DTEND;TZID=America/Monterrey:20230505T133000
DTSTAMP:20260422T081556
CREATED:20230426T205915Z
LAST-MODIFIED:20230426T205915Z
UID:9291-1683280800-1683293400@www.uaaan.edu.mx
SUMMARY:Procesos sustentables en la agroindustria
DESCRIPTION:Módulo 3: Inocuidad para la sustentabilidad \n 
URL:https://www.uaaan.edu.mx/event/procesos-sustentables-en-la-agroindustria/
LOCATION:Auditorio Ing. Eulalio Gutiérrez Treviño\, Saltillo\, Coah.\, México
END:VEVENT
END:VCALENDAR