BEGIN:VCALENDAR
VERSION:2.0
PRODID:-//Universidad Autonoma Agraria Antonio Narro - ECPv5.16.4//NONSGML v1.0//EN
CALSCALE:GREGORIAN
METHOD:PUBLISH
X-ORIGINAL-URL:https://www.uaaan.edu.mx
X-WR-CALDESC:Events for Universidad Autonoma Agraria Antonio Narro
REFRESH-INTERVAL;VALUE=DURATION:PT1H
X-Robots-Tag:noindex
X-PUBLISHED-TTL:PT1H
BEGIN:VTIMEZONE
TZID:America/Monterrey
BEGIN:STANDARD
TZOFFSETFROM:-0600
TZOFFSETTO:-0600
TZNAME:CST
DTSTART:20230101T000000
END:STANDARD
END:VTIMEZONE
BEGIN:VEVENT
DTSTART;TZID=America/Monterrey:20231009T090000
DTEND;TZID=America/Monterrey:20231010T140000
DTSTAMP:20260422T011139
CREATED:20231004T195805Z
LAST-MODIFIED:20231004T200232Z
UID:10075-1696842000-1696946400@www.uaaan.edu.mx
SUMMARY:VII Simposio de Ingeniero en Biotecnología
DESCRIPTION:«La Biotecnología una Realidad»
URL:https://www.uaaan.edu.mx/event/vii-simposio-de-ingeniero-en-biotecnologia/
LOCATION:Auditorio Ing. Carlos E. Martínez\, Calzada Antonio Narro 1923\, Saltillo\, Coahuila\, 25315\, México
END:VEVENT
BEGIN:VEVENT
DTSTART;TZID=America/Monterrey:20231009T100000
DTEND;TZID=America/Monterrey:20231009T133000
DTSTAMP:20260422T011139
CREATED:20231003T185620Z
LAST-MODIFIED:20231004T152156Z
UID:10068-1696845600-1696858200@www.uaaan.edu.mx
SUMMARY:4ta. Mesa de Discusión de la Economía Agrícola del Campo Mexicano
DESCRIPTION:¿Realmente los fertilizantes y agroquímicos\, aportan o atentan\, contra la Seguridad Alimentaria de México y el Mundo?
URL:https://www.uaaan.edu.mx/event/4ta-mesa-de-discusion-de-la-economia-agricola-del-campo-mexicano/
LOCATION:Auditorio Ing. Eulalio Gutiérrez Treviño\, Saltillo\, Coah.\, México
END:VEVENT
END:VCALENDAR