BEGIN:VCALENDAR
VERSION:2.0
PRODID:-//Universidad Autonoma Agraria Antonio Narro - ECPv5.16.4//NONSGML v1.0//EN
CALSCALE:GREGORIAN
METHOD:PUBLISH
X-ORIGINAL-URL:https://www.uaaan.edu.mx
X-WR-CALDESC:Events for Universidad Autonoma Agraria Antonio Narro
REFRESH-INTERVAL;VALUE=DURATION:PT1H
X-Robots-Tag:noindex
X-PUBLISHED-TTL:PT1H
BEGIN:VTIMEZONE
TZID:America/Monterrey
BEGIN:STANDARD
TZOFFSETFROM:-0600
TZOFFSETTO:-0600
TZNAME:CST
DTSTART:20240101T000000
END:STANDARD
END:VTIMEZONE
BEGIN:VEVENT
DTSTART;TZID=America/Monterrey:20240412T100000
DTEND;TZID=America/Monterrey:20240412T120000
DTSTAMP:20260421T162402
CREATED:20240409T214200Z
LAST-MODIFIED:20240409T214200Z
UID:11097-1712916000-1712923200@www.uaaan.edu.mx
SUMMARY:Cuerpo Académico CA-UAAAN-26  "Bioprocesos Agroalimentariso" del Departamento de Ciencia y Tecnoligía de Alimentos: INVITAN.
DESCRIPTION:
URL:https://www.uaaan.edu.mx/event/cuerpo-academico-ca-uaaan-26-bioprocesos-agroalimentariso-del-departamento-de-ciencia-y-tecnoligia-de-alimentos-invitan/
LOCATION:Departamento de Ciencia y Tecnología de Alimentos\, Calzada Antonio Narro 1923\, Saltillo\, Coahuila\, 25315\, México
END:VEVENT
END:VCALENDAR