BEGIN:VCALENDAR
VERSION:2.0
PRODID:-//Universidad Autonoma Agraria Antonio Narro - ECPv5.16.4//NONSGML v1.0//EN
CALSCALE:GREGORIAN
METHOD:PUBLISH
X-ORIGINAL-URL:https://www.uaaan.edu.mx
X-WR-CALDESC:Events for Universidad Autonoma Agraria Antonio Narro
REFRESH-INTERVAL;VALUE=DURATION:PT1H
X-Robots-Tag:noindex
X-PUBLISHED-TTL:PT1H
BEGIN:VTIMEZONE
TZID:America/Monterrey
BEGIN:STANDARD
TZOFFSETFROM:-0600
TZOFFSETTO:-0600
TZNAME:CST
DTSTART:20240101T000000
END:STANDARD
END:VTIMEZONE
BEGIN:VEVENT
DTSTART;VALUE=DATE:20240521
DTEND;VALUE=DATE:20240522
DTSTAMP:20260421T152025
CREATED:20240520T211942Z
LAST-MODIFIED:20240520T211942Z
UID:11460-1716249600-1716335999@www.uaaan.edu.mx
SUMMARY:Día Mundial de la Diversidad Cultural para el Diálogo y el Desarrollo
DESCRIPTION:
URL:https://www.uaaan.edu.mx/event/dia-mundial-de-la-diversidad-cultural-para-el-dialogo-y-el-desarrollo/
LOCATION:Coah.
END:VEVENT
END:VCALENDAR