BEGIN:VCALENDAR
VERSION:2.0
PRODID:-//Universidad Autonoma Agraria Antonio Narro - ECPv5.16.4//NONSGML v1.0//EN
CALSCALE:GREGORIAN
METHOD:PUBLISH
X-WR-CALNAME:Universidad Autonoma Agraria Antonio Narro
X-ORIGINAL-URL:https://www.uaaan.edu.mx
X-WR-CALDESC:Events for Universidad Autonoma Agraria Antonio Narro
REFRESH-INTERVAL;VALUE=DURATION:PT1H
X-Robots-Tag:noindex
X-PUBLISHED-TTL:PT1H
BEGIN:VTIMEZONE
TZID:America/Monterrey
BEGIN:STANDARD
TZOFFSETFROM:-0600
TZOFFSETTO:-0600
TZNAME:CST
DTSTART:20240101T000000
END:STANDARD
END:VTIMEZONE
BEGIN:VEVENT
DTSTART;VALUE=DATE:20240522
DTEND;VALUE=DATE:20240523
DTSTAMP:20260421T145252
CREATED:20240520T212209Z
LAST-MODIFIED:20240520T212209Z
UID:11473-1716336000-1716422399@www.uaaan.edu.mx
SUMMARY:Día Internacional de la Diversidad Biológica
DESCRIPTION:
URL:https://www.uaaan.edu.mx/event/dia-internacional-de-la-diversidad-biologica/
LOCATION:Coah.
END:VEVENT
BEGIN:VEVENT
DTSTART;TZID=America/Monterrey:20240522T090000
DTEND;TZID=America/Monterrey:20240522T120000
DTSTAMP:20260421T145252
CREATED:20240521T215728Z
LAST-MODIFIED:20240521T215817Z
UID:11505-1716368400-1716379200@www.uaaan.edu.mx
SUMMARY:II Seminario del Programa de Posgrado en Ingeniería de Sistemas de Producción
DESCRIPTION:
URL:https://www.uaaan.edu.mx/event/ii-seminaro-del-programa-de-posgrado-en-ingenieria-de-sistemas-de-produccion/
LOCATION:auditorio de Riego y Drenaje\, Calz. Antonio Narro 1923\, Saltillo\, Coah.\, 25315\, México
END:VEVENT
END:VCALENDAR