BEGIN:VCALENDAR
VERSION:2.0
PRODID:-//Universidad Autonoma Agraria Antonio Narro - ECPv5.16.4//NONSGML v1.0//EN
CALSCALE:GREGORIAN
METHOD:PUBLISH
X-ORIGINAL-URL:https://www.uaaan.edu.mx
X-WR-CALDESC:Events for Universidad Autonoma Agraria Antonio Narro
REFRESH-INTERVAL;VALUE=DURATION:PT1H
X-Robots-Tag:noindex
X-PUBLISHED-TTL:PT1H
BEGIN:VTIMEZONE
TZID:America/Monterrey
BEGIN:STANDARD
TZOFFSETFROM:-0600
TZOFFSETTO:-0600
TZNAME:CST
DTSTART:20240101T000000
END:STANDARD
END:VTIMEZONE
BEGIN:VEVENT
DTSTART;TZID=America/Monterrey:20240925T080000
DTEND;TZID=America/Monterrey:20240927T170000
DTSTAMP:20260421T083458
CREATED:20240709T183209Z
LAST-MODIFIED:20240709T183602Z
UID:11757-1727251200-1727456400@www.uaaan.edu.mx
SUMMARY:VIII Simposio Internacional de Bacterias Fitopatógenas
DESCRIPTION:25\, 26 y 27 de Septiembre 2024Hotel Sede: Fiesta Americana \n \n 
URL:https://www.uaaan.edu.mx/event/viii-simposio-internacional-de-bacterias-fitopatogenas/
LOCATION:Coah.
END:VEVENT
END:VCALENDAR