BEGIN:VCALENDAR
VERSION:2.0
PRODID:-//Universidad Autonoma Agraria Antonio Narro - ECPv5.16.4//NONSGML v1.0//EN
CALSCALE:GREGORIAN
METHOD:PUBLISH
X-WR-CALNAME:Universidad Autonoma Agraria Antonio Narro
X-ORIGINAL-URL:https://www.uaaan.edu.mx
X-WR-CALDESC:Events for Universidad Autonoma Agraria Antonio Narro
REFRESH-INTERVAL;VALUE=DURATION:PT1H
X-Robots-Tag:noindex
X-PUBLISHED-TTL:PT1H
BEGIN:VTIMEZONE
TZID:America/Monterrey
BEGIN:DAYLIGHT
TZOFFSETFROM:-0600
TZOFFSETTO:-0500
TZNAME:CDT
DTSTART:20220403T080000
END:DAYLIGHT
BEGIN:STANDARD
TZOFFSETFROM:-0500
TZOFFSETTO:-0600
TZNAME:CST
DTSTART:20221030T070000
END:STANDARD
END:VTIMEZONE
BEGIN:VEVENT
DTSTART;TZID=America/Monterrey:20221025T100000
DTEND;TZID=America/Monterrey:20221025T170000
DTSTAMP:20260423T010507
CREATED:20221022T011458Z
LAST-MODIFIED:20221022T011458Z
UID:8383-1666692000-1666717200@www.uaaan.edu.mx
SUMMARY:Conferencia para la prevención del Cáncer de mama
DESCRIPTION:
URL:https://www.uaaan.edu.mx/event/conferencia-para-la-prevencion-del-cancer-de-mama/
LOCATION:Auditorio Ing. Eulalio Gutiérrez Treviño\, Saltillo\, Coah.\, México
END:VEVENT
BEGIN:VEVENT
DTSTART;TZID=America/Monterrey:20221027T080000
DTEND;TZID=America/Monterrey:20221027T140000
DTSTAMP:20260423T010507
CREATED:20221026T173509Z
LAST-MODIFIED:20221026T173731Z
UID:8417-1666857600-1666879200@www.uaaan.edu.mx
SUMMARY:XLIII Ciclo de Conferencias sobre Temas Forestales
DESCRIPTION:  \n \n  \n \n \n 
URL:https://www.uaaan.edu.mx/event/xliii-ciclo-de-conferencias-sobre-temas-forestales/
LOCATION:Auditorio Ing. Carlos E. Martínez\, Calzada Antonio Narro 1923\, Saltillo\, Coahuila\, 25315\, México
END:VEVENT
BEGIN:VEVENT
DTSTART;TZID=America/Monterrey:20221101T120000
DTEND;TZID=America/Monterrey:20221101T170000
DTSTAMP:20260423T010507
CREATED:20221101T140634Z
LAST-MODIFIED:20221101T140634Z
UID:8461-1667304000-1667322000@www.uaaan.edu.mx
SUMMARY:Exposición de altar de muertos
DESCRIPTION:Dedicado a tres de nuestros estudiantes
URL:https://www.uaaan.edu.mx/event/exposicion-de-altar-de-muertos/
LOCATION:Biblioteca de la UAAAN\, Calzada Antonio Narro 1923\, Saltillo\, Coahuila\, 25315\, México
END:VEVENT
BEGIN:VEVENT
DTSTART;TZID=America/Monterrey:20221103T080000
DTEND;TZID=America/Monterrey:20221104T170000
DTSTAMP:20260423T010507
CREATED:20221101T161508Z
LAST-MODIFIED:20221101T161547Z
UID:8466-1667462400-1667581200@www.uaaan.edu.mx
SUMMARY:XV Coloquio Internacional de Desarrollo Rural
DESCRIPTION:
URL:https://www.uaaan.edu.mx/event/xv-coloquio-internacional-de-desarrollo-rural/
LOCATION:Auditorio de la División de Ciencias Socioeconómicas\, Calzada Antonio Narro 1923\, Saltillo\, Coahuila\, 25315\, México
END:VEVENT
BEGIN:VEVENT
DTSTART;TZID=America/Monterrey:20221103T093000
DTEND;TZID=America/Monterrey:20221104T183000
DTSTAMP:20260423T010507
CREATED:20221027T180057Z
LAST-MODIFIED:20221027T180223Z
UID:8429-1667467800-1667586600@www.uaaan.edu.mx
SUMMARY:1er Coloquio Internacional de Recursos Naturales
DESCRIPTION:Los retos actuales en la gestión de los recursos naturales del planeta \n \n \n  \n 
URL:https://www.uaaan.edu.mx/event/8429/
LOCATION:Auditorio Ing. Carlos E. Martínez\, Calzada Antonio Narro 1923\, Saltillo\, Coahuila\, 25315\, México
END:VEVENT
BEGIN:VEVENT
DTSTART;TZID=America/Monterrey:20221103T100000
DTEND;TZID=America/Monterrey:20221103T170000
DTSTAMP:20260423T010507
CREATED:20221027T180515Z
LAST-MODIFIED:20221027T181925Z
UID:8435-1667469600-1667494800@www.uaaan.edu.mx
SUMMARY:1er Coloquio Internacional de Recursos Naturales
DESCRIPTION:Bienvenida\, Inauguración\, Presentaciones y Curso-Taller \n \n  \n  \n 
URL:https://www.uaaan.edu.mx/event/8435/
LOCATION:Auditorio Ing. Carlos E. Martínez\, Calzada Antonio Narro 1923\, Saltillo\, Coahuila\, 25315\, México
END:VEVENT
BEGIN:VEVENT
DTSTART;TZID=America/Monterrey:20221104T090000
DTEND;TZID=America/Monterrey:20221104T170000
DTSTAMP:20260423T010507
CREATED:20221027T181420Z
LAST-MODIFIED:20221027T182007Z
UID:8439-1667552400-1667581200@www.uaaan.edu.mx
SUMMARY:1er Coloquio Internacional de Recursos Naturales
DESCRIPTION:Presentaciones\, Conclusiones y Clausura.
URL:https://www.uaaan.edu.mx/event/1er-coloquio-internacional-de-recursos-naturales/
LOCATION:Auditorio Ing. Carlos E. Martínez\, Calzada Antonio Narro 1923\, Saltillo\, Coahuila\, 25315\, México
END:VEVENT
BEGIN:VEVENT
DTSTART;TZID=America/Monterrey:20230117T080000
DTEND;TZID=America/Monterrey:20230117T170000
DTSTAMP:20260423T010507
CREATED:20230111T174942Z
LAST-MODIFIED:20230111T182437Z
UID:8719-1673942400-1673974800@www.uaaan.edu.mx
SUMMARY:Segunda Mesa de Discusión de la Economía Agrícola del Campo Mexicano
DESCRIPTION:Martes 17 de enero de 2023 en modalidad virtual\, de 12:00 a 14:00 horas \nLiga de acceso https://videoconferencia.telmex.com/j/1242356192 \n 
URL:https://www.uaaan.edu.mx/event/segunda-mesa-de-discusion-de-la-economia-agricola-del-campo-mexicano/
LOCATION:Coah.
END:VEVENT
BEGIN:VEVENT
DTSTART;TZID=America/Monterrey:20230210T100000
DTEND;TZID=America/Monterrey:20230210T130000
DTSTAMP:20260423T010507
CREATED:20230130T184024Z
LAST-MODIFIED:20230130T184151Z
UID:8885-1676023200-1676034000@www.uaaan.edu.mx
SUMMARY:Día Internacional de la Mujer y la Niña en la Ciencia
DESCRIPTION:
URL:https://www.uaaan.edu.mx/event/dia-internacional-de-la-mujer-y-la-nina-en-la-ciencia/
LOCATION:Auditorio Ing. Carlos E. Martínez\, Calzada Antonio Narro 1923\, Saltillo\, Coahuila\, 25315\, México
END:VEVENT
BEGIN:VEVENT
DTSTART;VALUE=DATE:20230301
DTEND;VALUE=DATE:20230306
DTSTAMP:20260423T010507
CREATED:20230227T193314Z
LAST-MODIFIED:20230227T193314Z
UID:9044-1677628800-1678060799@www.uaaan.edu.mx
SUMMARY:Exposición\, Académica\, Científica\, Tecnológica y de Impacto Social Campesino
DESCRIPTION:
URL:https://www.uaaan.edu.mx/event/exposicion-academica-cientifica-tecnologica-y-de-impacto-social-campesino/
LOCATION:Biblioteca de la UAAAN\, Calzada Antonio Narro 1923\, Saltillo\, Coahuila\, 25315\, México
END:VEVENT
BEGIN:VEVENT
DTSTART;TZID=America/Monterrey:20230301T120000
DTEND;TZID=America/Monterrey:20230301T170000
DTSTAMP:20260423T010507
CREATED:20230227T192227Z
LAST-MODIFIED:20230227T192227Z
UID:9037-1677672000-1677690000@www.uaaan.edu.mx
SUMMARY:Festejos del Centenario de la UAAAN: Acto Inaugural
DESCRIPTION:
URL:https://www.uaaan.edu.mx/event/festejos-del-centenario-de-la-uaaan-acto-inaugural/
LOCATION:Explanada de la Biblioteca Dr. Egidio G. Rebonato\, Calz. Antonio Narro 1923\, Saltillo\, Coah.\, 25315\, México
END:VEVENT
BEGIN:VEVENT
DTSTART;TZID=America/Monterrey:20230301T123000
DTEND;TZID=America/Monterrey:20230301T170000
DTSTAMP:20260423T010507
CREATED:20230227T193006Z
LAST-MODIFIED:20230227T193006Z
UID:9041-1677673800-1677690000@www.uaaan.edu.mx
SUMMARY:Inauguración Exposición Filatélica Servicio Postal Mexicano
DESCRIPTION:
URL:https://www.uaaan.edu.mx/event/inauguracion-exposicion-filatelica-servicio-postal-mexicano/
LOCATION:Biblioteca de la UAAAN\, Calzada Antonio Narro 1923\, Saltillo\, Coahuila\, 25315\, México
END:VEVENT
BEGIN:VEVENT
DTSTART;TZID=America/Monterrey:20230301T140000
DTEND;TZID=America/Monterrey:20230301T163000
DTSTAMP:20260423T010507
CREATED:20230227T194954Z
LAST-MODIFIED:20230227T194954Z
UID:9050-1677679200-1677688200@www.uaaan.edu.mx
SUMMARY:Conferencias
DESCRIPTION:
URL:https://www.uaaan.edu.mx/event/conferencias/
LOCATION:Auditorio Ing. Carlos E. Martínez\, Calzada Antonio Narro 1923\, Saltillo\, Coahuila\, 25315\, México
END:VEVENT
BEGIN:VEVENT
DTSTART;TZID=America/Monterrey:20230301T140000
DTEND;TZID=America/Monterrey:20230301T190000
DTSTAMP:20260423T010507
CREATED:20230227T194031Z
LAST-MODIFIED:20230227T194031Z
UID:9047-1677679200-1677697200@www.uaaan.edu.mx
SUMMARY:Eventos Artísticos\, Culturales y Deportivos
DESCRIPTION:
URL:https://www.uaaan.edu.mx/event/eventos-artisticos-culturales-y-deportivos/
LOCATION:Coah.
END:VEVENT
BEGIN:VEVENT
DTSTART;TZID=America/Monterrey:20230302T100000
DTEND;TZID=America/Monterrey:20230302T113000
DTSTAMP:20260423T010507
CREATED:20230227T195516Z
LAST-MODIFIED:20230227T195516Z
UID:9053-1677751200-1677756600@www.uaaan.edu.mx
SUMMARY:Evento Protocolario
DESCRIPTION:
URL:https://www.uaaan.edu.mx/event/evento-protocolario/
LOCATION:Auditorio Ing. Carlos E. Martínez\, Calzada Antonio Narro 1923\, Saltillo\, Coahuila\, 25315\, México
END:VEVENT
BEGIN:VEVENT
DTSTART;TZID=America/Monterrey:20230302T140000
DTEND;TZID=America/Monterrey:20230302T163000
DTSTAMP:20260423T010507
CREATED:20230227T200011Z
LAST-MODIFIED:20230227T200011Z
UID:9059-1677765600-1677774600@www.uaaan.edu.mx
SUMMARY:Conferencias
DESCRIPTION:
URL:https://www.uaaan.edu.mx/event/conferencias-2/
LOCATION:Coah.
END:VEVENT
BEGIN:VEVENT
DTSTART;TZID=America/Monterrey:20230302T140000
DTEND;TZID=America/Monterrey:20230302T190000
DTSTAMP:20260423T010507
CREATED:20230227T195853Z
LAST-MODIFIED:20230227T195853Z
UID:9056-1677765600-1677783600@www.uaaan.edu.mx
SUMMARY:Eventos Artísticos\, Culturales y Deportivos
DESCRIPTION:
URL:https://www.uaaan.edu.mx/event/eventos-artisticos-culturales-y-deportivos-2/
LOCATION:Explanada de la Biblioteca Dr. Egidio G. Rebonato\, Calz. Antonio Narro 1923\, Saltillo\, Coah.\, 25315\, México
END:VEVENT
BEGIN:VEVENT
DTSTART;TZID=America/Monterrey:20230303T080000
DTEND;TZID=America/Monterrey:20230303T123000
DTSTAMP:20260423T010507
CREATED:20230227T200357Z
LAST-MODIFIED:20230227T200357Z
UID:9062-1677830400-1677846600@www.uaaan.edu.mx
SUMMARY:Exhumación del Benefactor Don Antonio Narro
DESCRIPTION:
URL:https://www.uaaan.edu.mx/event/exhumacion-del-benefactor-don-antonio-narro/
LOCATION:Panteon Santiago – Rotonda de los hombres ilustres\, Calz Francisco I. Madero\, Saltillo\, Coahuila\, 25000\, México
END:VEVENT
BEGIN:VEVENT
DTSTART;TZID=America/Monterrey:20230303T100000
DTEND;TZID=America/Monterrey:20230303T203000
DTSTAMP:20260423T010507
CREATED:20230227T202056Z
LAST-MODIFIED:20230227T202056Z
UID:9068-1677837600-1677875400@www.uaaan.edu.mx
SUMMARY:Eventos: Artísticos\, Culturales\, Conferencias y Deportivos
DESCRIPTION:
URL:https://www.uaaan.edu.mx/event/eventos-artisticos-culturales-conferencias-y-deportivos/
LOCATION:Coah.
END:VEVENT
BEGIN:VEVENT
DTSTART;TZID=America/Monterrey:20230303T150000
DTEND;TZID=America/Monterrey:20230303T163000
DTSTAMP:20260423T010507
CREATED:20230227T200844Z
LAST-MODIFIED:20230227T200844Z
UID:9065-1677855600-1677861000@www.uaaan.edu.mx
SUMMARY:Bienvenido a Casa 2023
DESCRIPTION:
URL:https://www.uaaan.edu.mx/event/bienvenido-a-casa-2023/
LOCATION:Plaza de los Benefactores
END:VEVENT
BEGIN:VEVENT
DTSTART;TZID=America/Monterrey:20230304T073000
DTEND;TZID=America/Monterrey:20230304T103000
DTSTAMP:20260423T010507
CREATED:20230227T202833Z
LAST-MODIFIED:20230227T202833Z
UID:9071-1677915000-1677925800@www.uaaan.edu.mx
SUMMARY:Mañanitas del Centenario y Guardia de Honor
DESCRIPTION:
URL:https://www.uaaan.edu.mx/event/mananitas-del-centenario-y-guardia-de-honor/
LOCATION:Coah.
END:VEVENT
BEGIN:VEVENT
DTSTART;TZID=America/Monterrey:20230304T103000
DTEND;TZID=America/Monterrey:20230304T170000
DTSTAMP:20260423T010507
CREATED:20230227T203009Z
LAST-MODIFIED:20230227T203121Z
UID:9074-1677925800-1677949200@www.uaaan.edu.mx
SUMMARY:Ceremonia Solemne del Centenario
DESCRIPTION:
URL:https://www.uaaan.edu.mx/event/ceremonia-solemne-del-centenario/
LOCATION:Explanada de la Biblioteca Dr. Egidio G. Rebonato\, Calz. Antonio Narro 1923\, Saltillo\, Coah.\, 25315\, México
END:VEVENT
BEGIN:VEVENT
DTSTART;TZID=America/Monterrey:20230305T080000
DTEND;TZID=America/Monterrey:20230305T180000
DTSTAMP:20260423T010507
CREATED:20230227T204813Z
LAST-MODIFIED:20230227T210448Z
UID:9080-1678003200-1678039200@www.uaaan.edu.mx
SUMMARY:Carrera del Centenario 5K; Actividades Deportivas\, Artistísticas y Culturales
DESCRIPTION:
URL:https://www.uaaan.edu.mx/event/carrera-del-centenario-5k-actividades-deportivas-artististicas-y-culturales/
LOCATION:Coah.
END:VEVENT
BEGIN:VEVENT
DTSTART;TZID=America/Monterrey:20230327T090000
DTEND;TZID=America/Monterrey:20230327T130000
DTSTAMP:20260423T010507
CREATED:20230324T162925Z
LAST-MODIFIED:20230324T162925Z
UID:9185-1679907600-1679922000@www.uaaan.edu.mx
SUMMARY:Cambio Climático y Su Impacto en la Agricultura
DESCRIPTION:
URL:https://www.uaaan.edu.mx/event/cambio-climatico-y-su-impacto-en-la-agricultura/
LOCATION:Coah.
END:VEVENT
BEGIN:VEVENT
DTSTART;TZID=America/Monterrey:20230328T090000
DTEND;TZID=America/Monterrey:20230328T140000
DTSTAMP:20260423T010507
CREATED:20230324T163031Z
LAST-MODIFIED:20230324T163031Z
UID:9188-1679994000-1680012000@www.uaaan.edu.mx
SUMMARY:Cambio Climático y Su Impacto en la Agricultura
DESCRIPTION:
URL:https://www.uaaan.edu.mx/event/cambio-climatico-y-su-impacto-en-la-agricultura-2/
LOCATION:Coah.
END:VEVENT
BEGIN:VEVENT
DTSTART;TZID=America/Monterrey:20230425T120000
DTEND;TZID=America/Monterrey:20230425T150000
DTSTAMP:20260423T010507
CREATED:20230331T201421Z
LAST-MODIFIED:20230331T201421Z
UID:9223-1682424000-1682434800@www.uaaan.edu.mx
SUMMARY:3er Mesa de Discusión de la Economía Agrícola del Campo Mexicano
DESCRIPTION:
URL:https://www.uaaan.edu.mx/event/3er-mesa-de-discusion-de-la-economia-agricola-del-campo-mexicano/
LOCATION:Coah.
END:VEVENT
BEGIN:VEVENT
DTSTART;TZID=America/Monterrey:20230505T100000
DTEND;TZID=America/Monterrey:20230505T133000
DTSTAMP:20260423T010507
CREATED:20230426T205915Z
LAST-MODIFIED:20230426T205915Z
UID:9291-1683280800-1683293400@www.uaaan.edu.mx
SUMMARY:Procesos sustentables en la agroindustria
DESCRIPTION:Módulo 3: Inocuidad para la sustentabilidad \n 
URL:https://www.uaaan.edu.mx/event/procesos-sustentables-en-la-agroindustria/
LOCATION:Auditorio Ing. Eulalio Gutiérrez Treviño\, Saltillo\, Coah.\, México
END:VEVENT
BEGIN:VEVENT
DTSTART;TZID=America/Monterrey:20230512T080000
DTEND;TZID=America/Monterrey:20230512T170000
DTSTAMP:20260423T010507
CREATED:20230512T204420Z
LAST-MODIFIED:20230512T204420Z
UID:9377-1683878400-1683910800@www.uaaan.edu.mx
SUMMARY:XLIV Congreso de la Ciencia de la Maleza
DESCRIPTION:
URL:https://www.uaaan.edu.mx/event/xliv-congreso-de-la-ciencia-de-la-maleza/
LOCATION:Coah.
END:VEVENT
BEGIN:VEVENT
DTSTART;TZID=America/Monterrey:20230517T093000
DTEND;TZID=America/Monterrey:20230517T140000
DTSTAMP:20260423T010507
CREATED:20230516T194326Z
LAST-MODIFIED:20230516T194431Z
UID:9391-1684315800-1684332000@www.uaaan.edu.mx
SUMMARY:Proceso de Evaluacion del Programa Educativo Ing. Mecánico Agricola
DESCRIPTION:Refrendo de Acreditación Nacional e Internacional
URL:https://www.uaaan.edu.mx/event/proceso-de-evaluacion-del-programa-educativo-ing-mecanico-agricola/
LOCATION:Auditorio Ing. Eulalio Gutiérrez Treviño\, Saltillo\, Coah.\, México
END:VEVENT
BEGIN:VEVENT
DTSTART;TZID=America/Monterrey:20230613T080000
DTEND;TZID=America/Monterrey:20230616T170000
DTSTAMP:20260423T010507
CREATED:20230605T192732Z
LAST-MODIFIED:20230605T192732Z
UID:9465-1686643200-1686934800@www.uaaan.edu.mx
SUMMARY:14 Congreso de la Asociación Mexicana de Estudios Rurales
DESCRIPTION:
URL:https://www.uaaan.edu.mx/event/14-congreso-de-la-asociacion-mexicana-de-estudios-rurales/
LOCATION:Coah.
END:VEVENT
END:VCALENDAR