BEGIN:VCALENDAR
VERSION:2.0
PRODID:-//Universidad Autonoma Agraria Antonio Narro - ECPv5.16.4//NONSGML v1.0//EN
CALSCALE:GREGORIAN
METHOD:PUBLISH
X-WR-CALNAME:Universidad Autonoma Agraria Antonio Narro
X-ORIGINAL-URL:https://www.uaaan.edu.mx
X-WR-CALDESC:Events for Universidad Autonoma Agraria Antonio Narro
REFRESH-INTERVAL;VALUE=DURATION:PT1H
X-Robots-Tag:noindex
X-PUBLISHED-TTL:PT1H
BEGIN:VTIMEZONE
TZID:America/Monterrey
BEGIN:DAYLIGHT
TZOFFSETFROM:-0600
TZOFFSETTO:-0500
TZNAME:CDT
DTSTART:20220403T080000
END:DAYLIGHT
BEGIN:STANDARD
TZOFFSETFROM:-0500
TZOFFSETTO:-0600
TZNAME:CST
DTSTART:20221030T070000
END:STANDARD
END:VTIMEZONE
BEGIN:VEVENT
DTSTART;TZID=America/Monterrey:20220428T100000
DTEND;TZID=America/Monterrey:20220428T143000
DTSTAMP:20260423T020119
CREATED:20220414T005424Z
LAST-MODIFIED:20220523T172142Z
UID:6623-1651140000-1651156200@www.uaaan.edu.mx
SUMMARY:II Coloquio: Fisiología de la Bioestimulación
DESCRIPTION:
URL:https://www.uaaan.edu.mx/event/ii-coloquio-fisiologia-de-la-bioestimulacion/
LOCATION:Auditorio Ing. Eulalio Gutiérrez Treviño\, Saltillo\, Coah.\, México
END:VEVENT
END:VCALENDAR