BEGIN:VCALENDAR
VERSION:2.0
PRODID:-//Universidad Autonoma Agraria Antonio Narro - ECPv5.16.4//NONSGML v1.0//EN
CALSCALE:GREGORIAN
METHOD:PUBLISH
X-ORIGINAL-URL:https://www.uaaan.edu.mx
X-WR-CALDESC:Events for Universidad Autonoma Agraria Antonio Narro
REFRESH-INTERVAL;VALUE=DURATION:PT1H
X-Robots-Tag:noindex
X-PUBLISHED-TTL:PT1H
BEGIN:VTIMEZONE
TZID:America/Monterrey
BEGIN:DAYLIGHT
TZOFFSETFROM:-0600
TZOFFSETTO:-0500
TZNAME:CDT
DTSTART:20220403T080000
END:DAYLIGHT
BEGIN:STANDARD
TZOFFSETFROM:-0500
TZOFFSETTO:-0600
TZNAME:CST
DTSTART:20221030T070000
END:STANDARD
END:VTIMEZONE
BEGIN:VEVENT
DTSTART;TZID=America/Monterrey:20220617T110000
DTEND;TZID=America/Monterrey:20220617T150000
DTSTAMP:20260422T232734
CREATED:20220614T185609Z
LAST-MODIFIED:20220614T185609Z
UID:7150-1655463600-1655478000@www.uaaan.edu.mx
SUMMARY:Conferencia: Detección oportuna de cáncer de próstata
DESCRIPTION:
URL:https://www.uaaan.edu.mx/event/conferencia-deteccion-oportuna-de-cancer-de-prostata/
LOCATION:Auditorio Ing. Carlos E. Martínez\, Calzada Antonio Narro 1923\, Saltillo\, Coahuila\, 25315\, México
END:VEVENT
BEGIN:VEVENT
DTSTART;TZID=America/Monterrey:20220618T120000
DTEND;TZID=America/Monterrey:20220618T123000
DTSTAMP:20260422T232734
CREATED:20220615T192129Z
LAST-MODIFIED:20220615T192242Z
UID:7157-1655553600-1655555400@www.uaaan.edu.mx
SUMMARY:Reunión Mujeres Egresadas de la UAAAN : Guardia de Honor
DESCRIPTION:
URL:https://www.uaaan.edu.mx/event/reunion-mujeres-egresadas-de-la-uaaan/
LOCATION:Plaza de los Benefactores
END:VEVENT
BEGIN:VEVENT
DTSTART;TZID=America/Monterrey:20220618T123000
DTEND;TZID=America/Monterrey:20220618T153000
DTSTAMP:20260422T232734
CREATED:20220615T192511Z
LAST-MODIFIED:20220616T153318Z
UID:7161-1655555400-1655566200@www.uaaan.edu.mx
SUMMARY:Reunión Mujeres Egresadas de la UAAAN : Bienvenida
DESCRIPTION:
URL:https://www.uaaan.edu.mx/event/reunion-mujeres-egresadas-de-la-uaaan-bienvenida/
LOCATION:Auditorio Ing. Carlos E. Martínez\, Calzada Antonio Narro 1923\, Saltillo\, Coahuila\, 25315\, México
END:VEVENT
END:VCALENDAR