BEGIN:VCALENDAR
VERSION:2.0
PRODID:-//Universidad Autonoma Agraria Antonio Narro - ECPv5.16.4//NONSGML v1.0//EN
CALSCALE:GREGORIAN
METHOD:PUBLISH
X-WR-CALNAME:Universidad Autonoma Agraria Antonio Narro
X-ORIGINAL-URL:https://www.uaaan.edu.mx
X-WR-CALDESC:Events for Universidad Autonoma Agraria Antonio Narro
REFRESH-INTERVAL;VALUE=DURATION:PT1H
X-Robots-Tag:noindex
X-PUBLISHED-TTL:PT1H
BEGIN:VTIMEZONE
TZID:America/Monterrey
BEGIN:DAYLIGHT
TZOFFSETFROM:-0600
TZOFFSETTO:-0500
TZNAME:CDT
DTSTART:20220403T080000
END:DAYLIGHT
BEGIN:STANDARD
TZOFFSETFROM:-0500
TZOFFSETTO:-0600
TZNAME:CST
DTSTART:20221030T070000
END:STANDARD
END:VTIMEZONE
BEGIN:VEVENT
DTSTART;TZID=America/Monterrey:20221010T080000
DTEND;TZID=America/Monterrey:20221010T170000
DTSTAMP:20260422T165721
CREATED:20221005T145914Z
LAST-MODIFIED:20221005T145914Z
UID:8194-1665388800-1665421200@www.uaaan.edu.mx
SUMMARY:XXXIX Semana Internacional del Parasitólogo : Apertura. Inauguración. Exposición y Taller
DESCRIPTION:
URL:https://www.uaaan.edu.mx/event/xxxix-semana-internacional-del-parasitologo-apertura-inauguracion-exposicion-y-taller/
LOCATION:Auditorio Ing. Eulalio Gutiérrez Treviño\, Saltillo\, Coah.\, México
END:VEVENT
BEGIN:VEVENT
DTSTART;TZID=America/Monterrey:20221010T080000
DTEND;TZID=America/Monterrey:20221014T150000
DTSTAMP:20260422T165721
CREATED:20221005T001345Z
LAST-MODIFIED:20221005T160003Z
UID:8189-1665388800-1665759600@www.uaaan.edu.mx
SUMMARY:XXXIX Semana Internacional del Parasitólogo: del 10 al 14 de Octubre
DESCRIPTION:  \n \n \n  \n \n  \n  \n  \n  \n  \n 
URL:https://www.uaaan.edu.mx/event/xxxix-semana-internacional-del-parasitologo-del-10-al-14-de-octubre/
LOCATION:Auditorio Ing. Eulalio Gutiérrez Treviño\, Saltillo\, Coah.\, México
END:VEVENT
BEGIN:VEVENT
DTSTART;TZID=America/Monterrey:20221011T100000
DTEND;TZID=America/Monterrey:20221011T120000
DTSTAMP:20260422T165721
CREATED:20221005T150245Z
LAST-MODIFIED:20221005T150245Z
UID:8198-1665482400-1665489600@www.uaaan.edu.mx
SUMMARY:XXXIX Semana Internacional del Parasitólogo : Muestra gastronómica y Talleres
DESCRIPTION:
URL:https://www.uaaan.edu.mx/event/xxxix-semana-internacional-del-parasitologo-muestra-gastronomica-y-talleres/
LOCATION:Coah.
END:VEVENT
BEGIN:VEVENT
DTSTART;TZID=America/Monterrey:20221012T090000
DTEND;TZID=America/Monterrey:20221012T163000
DTSTAMP:20260422T165721
CREATED:20221005T152301Z
LAST-MODIFIED:20221005T152301Z
UID:8200-1665565200-1665592200@www.uaaan.edu.mx
SUMMARY:XXXIX Semana Internacional del Parasitólogo : Video documental. Ponencias y Talleres
DESCRIPTION:
URL:https://www.uaaan.edu.mx/event/xxxix-semana-internacional-del-parasitologo-video-documental-ponencias-y-talleres/
LOCATION:Auditorio Ing. Eulalio Gutiérrez Treviño\, Saltillo\, Coah.\, México
END:VEVENT
BEGIN:VEVENT
DTSTART;TZID=America/Monterrey:20221013T090000
DTEND;TZID=America/Monterrey:20221013T140000
DTSTAMP:20260422T165721
CREATED:20221010T160415Z
LAST-MODIFIED:20221010T160415Z
UID:8260-1665651600-1665669600@www.uaaan.edu.mx
SUMMARY:Biotecnología Forestal
DESCRIPTION:
URL:https://www.uaaan.edu.mx/event/biotecnologia-forestal/
LOCATION:Auditorio Ing. Carlos E. Martínez\, Calzada Antonio Narro 1923\, Saltillo\, Coahuila\, 25315\, México
END:VEVENT
BEGIN:VEVENT
DTSTART;TZID=America/Monterrey:20221013T090000
DTEND;TZID=America/Monterrey:20221013T140000
DTSTAMP:20260422T165721
CREATED:20221010T160626Z
LAST-MODIFIED:20221010T160626Z
UID:8263-1665651600-1665669600@www.uaaan.edu.mx
SUMMARY:Biotecnología Forestal - Programa
DESCRIPTION:
URL:https://www.uaaan.edu.mx/event/biotecnologia-forestal-programa/
LOCATION:Auditorio Ing. Carlos E. Martínez\, Calzada Antonio Narro 1923\, Saltillo\, Coahuila\, 25315\, México
END:VEVENT
BEGIN:VEVENT
DTSTART;TZID=America/Monterrey:20221013T093000
DTEND;TZID=America/Monterrey:20221013T163000
DTSTAMP:20260422T165721
CREATED:20221005T152645Z
LAST-MODIFIED:20221005T152645Z
UID:8203-1665653400-1665678600@www.uaaan.edu.mx
SUMMARY:XXXIX Semana Internacional del Parasitólogo : Ponencias y Talleres
DESCRIPTION:
URL:https://www.uaaan.edu.mx/event/xxxix-semana-internacional-del-parasitologo-ponencias-y-talleres/
LOCATION:Auditorio Ing. Eulalio Gutiérrez Treviño\, Saltillo\, Coah.\, México
END:VEVENT
BEGIN:VEVENT
DTSTART;TZID=America/Monterrey:20221014T080000
DTEND;TZID=America/Monterrey:20221014T140000
DTSTAMP:20260422T165721
CREATED:20221005T155349Z
LAST-MODIFIED:20221005T160140Z
UID:8205-1665734400-1665756000@www.uaaan.edu.mx
SUMMARY:XXXIX Semana Internacional del Parasitólogo : Ponencias
DESCRIPTION: 
URL:https://www.uaaan.edu.mx/event/xxxix-semana-internacional-del-parasitologo-ponencias/
LOCATION:Coah.
END:VEVENT
BEGIN:VEVENT
DTSTART;TZID=America/Monterrey:20221014T080000
DTEND;TZID=America/Monterrey:20221014T170000
DTSTAMP:20260422T165721
CREATED:20221005T155620Z
LAST-MODIFIED:20221005T160113Z
UID:8207-1665734400-1665766800@www.uaaan.edu.mx
SUMMARY:XXXIX Semana Internacional del Parasitólogo : Homenaje póstumo MC Víctor Manuel Sánchez Valdés. Clausura y Talleres
DESCRIPTION:
URL:https://www.uaaan.edu.mx/event/xxxix-semana-internacional-del-parasitologo-homenaje-postumo-mc-victor-manuel-sanchez-valdes-clausura-y-talleres/
LOCATION:Auditorio Ing. Eulalio Gutiérrez Treviño\, Saltillo\, Coah.\, México
END:VEVENT
BEGIN:VEVENT
DTSTART;TZID=America/Monterrey:20221025T100000
DTEND;TZID=America/Monterrey:20221025T170000
DTSTAMP:20260422T165721
CREATED:20221022T011458Z
LAST-MODIFIED:20221022T011458Z
UID:8383-1666692000-1666717200@www.uaaan.edu.mx
SUMMARY:Conferencia para la prevención del Cáncer de mama
DESCRIPTION:
URL:https://www.uaaan.edu.mx/event/conferencia-para-la-prevencion-del-cancer-de-mama/
LOCATION:Auditorio Ing. Eulalio Gutiérrez Treviño\, Saltillo\, Coah.\, México
END:VEVENT
BEGIN:VEVENT
DTSTART;TZID=America/Monterrey:20221027T080000
DTEND;TZID=America/Monterrey:20221027T140000
DTSTAMP:20260422T165721
CREATED:20221026T173509Z
LAST-MODIFIED:20221026T173731Z
UID:8417-1666857600-1666879200@www.uaaan.edu.mx
SUMMARY:XLIII Ciclo de Conferencias sobre Temas Forestales
DESCRIPTION:  \n \n  \n \n \n 
URL:https://www.uaaan.edu.mx/event/xliii-ciclo-de-conferencias-sobre-temas-forestales/
LOCATION:Auditorio Ing. Carlos E. Martínez\, Calzada Antonio Narro 1923\, Saltillo\, Coahuila\, 25315\, México
END:VEVENT
END:VCALENDAR