BEGIN:VCALENDAR
VERSION:2.0
PRODID:-//Universidad Autonoma Agraria Antonio Narro - ECPv5.16.4//NONSGML v1.0//EN
CALSCALE:GREGORIAN
METHOD:PUBLISH
X-WR-CALNAME:Universidad Autonoma Agraria Antonio Narro
X-ORIGINAL-URL:https://www.uaaan.edu.mx
X-WR-CALDESC:Events for Universidad Autonoma Agraria Antonio Narro
REFRESH-INTERVAL;VALUE=DURATION:PT1H
X-Robots-Tag:noindex
X-PUBLISHED-TTL:PT1H
BEGIN:VTIMEZONE
TZID:America/Monterrey
BEGIN:STANDARD
TZOFFSETFROM:-0600
TZOFFSETTO:-0600
TZNAME:CST
DTSTART:20230101T000000
END:STANDARD
END:VTIMEZONE
BEGIN:VEVENT
DTSTART;TZID=America/Monterrey:20230117T080000
DTEND;TZID=America/Monterrey:20230117T170000
DTSTAMP:20260422T124319
CREATED:20230111T174942Z
LAST-MODIFIED:20230111T182437Z
UID:8719-1673942400-1673974800@www.uaaan.edu.mx
SUMMARY:Segunda Mesa de Discusión de la Economía Agrícola del Campo Mexicano
DESCRIPTION:Martes 17 de enero de 2023 en modalidad virtual\, de 12:00 a 14:00 horas \nLiga de acceso https://videoconferencia.telmex.com/j/1242356192 \n 
URL:https://www.uaaan.edu.mx/event/segunda-mesa-de-discusion-de-la-economia-agricola-del-campo-mexicano/
LOCATION:Coah.
END:VEVENT
END:VCALENDAR