BEGIN:VCALENDAR
VERSION:2.0
PRODID:-//Universidad Autonoma Agraria Antonio Narro - ECPv5.16.4//NONSGML v1.0//EN
CALSCALE:GREGORIAN
METHOD:PUBLISH
X-WR-CALNAME:Universidad Autonoma Agraria Antonio Narro
X-ORIGINAL-URL:https://www.uaaan.edu.mx
X-WR-CALDESC:Events for Universidad Autonoma Agraria Antonio Narro
REFRESH-INTERVAL;VALUE=DURATION:PT1H
X-Robots-Tag:noindex
X-PUBLISHED-TTL:PT1H
BEGIN:VTIMEZONE
TZID:America/Monterrey
BEGIN:STANDARD
TZOFFSETFROM:-0600
TZOFFSETTO:-0600
TZNAME:CST
DTSTART:20240101T000000
END:STANDARD
END:VTIMEZONE
BEGIN:VEVENT
DTSTART;TZID=America/Monterrey:20240229T130000
DTEND;TZID=America/Monterrey:20240302T160000
DTSTAMP:20260421T162340
CREATED:20240226T185518Z
LAST-MODIFIED:20240226T185715Z
UID:10771-1709211600-1709395200@www.uaaan.edu.mx
SUMMARY:Encuentros Deporitvos:  Básquetbol Varonil y Femenil
DESCRIPTION:
URL:https://www.uaaan.edu.mx/event/programa-deporitvo-del-cierre-de-eventos-por-el-ano-del-centenario/
LOCATION:Gimnacio Universitario\, Calzada Antonio Narro 1923\, Saltillo\, Coahuila\, 25315\, México
END:VEVENT
BEGIN:VEVENT
DTSTART;TZID=America/Monterrey:20240301T090000
DTEND;TZID=America/Monterrey:20240301T170000
DTSTAMP:20260421T162340
CREATED:20240221T210849Z
LAST-MODIFIED:20240221T210849Z
UID:10719-1709283600-1709312400@www.uaaan.edu.mx
SUMMARY:Develación de letras de Oro en el Muro de Honor del H. Congreso del Estado de Coahuila
DESCRIPTION:
URL:https://www.uaaan.edu.mx/event/develacion-de-letras-de-oro-en-el-muro-de-honor-del-h-congreso-del-estado-de-coahuila/
LOCATION:H. Congreso del Estado de Coahuila\, Blvd. Francisco Coss s/n esq. Obregón\, Zona Centro\, Saltillo\, Coah.\, 25000\, México
END:VEVENT
BEGIN:VEVENT
DTSTART;TZID=America/Monterrey:20240301T090000
DTEND;TZID=America/Monterrey:20240301T170000
DTSTAMP:20260421T162340
CREATED:20240222T210417Z
LAST-MODIFIED:20240222T210417Z
UID:10745-1709283600-1709312400@www.uaaan.edu.mx
SUMMARY:Programa del Cierre de Eventos por el Año del Centenario
DESCRIPTION:
URL:https://www.uaaan.edu.mx/event/programa-del-cierre-de-eventos-por-el-ano-del-centenario-3/
LOCATION:H. Congreso del Estado de Coahuila\, Blvd. Francisco Coss s/n esq. Obregón\, Zona Centro\, Saltillo\, Coah.\, 25000\, México
END:VEVENT
BEGIN:VEVENT
DTSTART;TZID=America/Monterrey:20240301T090000
DTEND;TZID=America/Monterrey:20240302T120000
DTSTAMP:20260421T162340
CREATED:20240226T194808Z
LAST-MODIFIED:20240226T194808Z
UID:10786-1709283600-1709380800@www.uaaan.edu.mx
SUMMARY:Encuentros Deporitvos: Softbol
DESCRIPTION:
URL:https://www.uaaan.edu.mx/event/encuentros-deporitvos-softbol/
LOCATION:Campo Deportivo de la UAAAN\, Calz. Antonio Narro 1923\, Saltillo\, Coah.\, 25315\, México
END:VEVENT
BEGIN:VEVENT
DTSTART;TZID=America/Monterrey:20240301T110000
DTEND;TZID=America/Monterrey:20240302T170000
DTSTAMP:20260421T162340
CREATED:20240226T194539Z
LAST-MODIFIED:20240226T194539Z
UID:10783-1709290800-1709398800@www.uaaan.edu.mx
SUMMARY:Encuentros Deporitvos: Futbol Soccer
DESCRIPTION:
URL:https://www.uaaan.edu.mx/event/encuentros-deporitvos-futbol-soccer/
LOCATION:Campo Deportivo de la UAAAN\, Calz. Antonio Narro 1923\, Saltillo\, Coah.\, 25315\, México
END:VEVENT
BEGIN:VEVENT
DTSTART;TZID=America/Monterrey:20240301T110000
DTEND;TZID=America/Monterrey:20240303T200000
DTSTAMP:20260421T162340
CREATED:20240226T195255Z
LAST-MODIFIED:20240226T195255Z
UID:10792-1709290800-1709496000@www.uaaan.edu.mx
SUMMARY:Encuentros Deporitvos: Campeonato de Charrería
DESCRIPTION:
URL:https://www.uaaan.edu.mx/event/encuentros-deporitvos-campeonato-de-charreria/
LOCATION:Coah.
END:VEVENT
BEGIN:VEVENT
DTSTART;TZID=America/Monterrey:20240301T140000
DTEND;TZID=America/Monterrey:20240302T200000
DTSTAMP:20260421T162340
CREATED:20240226T195048Z
LAST-MODIFIED:20240226T195048Z
UID:10789-1709301600-1709409600@www.uaaan.edu.mx
SUMMARY:Encuentros Deporitvos: Voleibol
DESCRIPTION:
URL:https://www.uaaan.edu.mx/event/encuentros-deporitvos-voleibol/
LOCATION:Gimnacio Universitario\, Calzada Antonio Narro 1923\, Saltillo\, Coahuila\, 25315\, México
END:VEVENT
BEGIN:VEVENT
DTSTART;TZID=America/Monterrey:20240301T153000
DTEND;TZID=America/Monterrey:20240301T190000
DTSTAMP:20260421T162340
CREATED:20240226T193631Z
LAST-MODIFIED:20240226T193631Z
UID:10776-1709307000-1709319600@www.uaaan.edu.mx
SUMMARY:Encuentros Deporitvos: Futbol Rápido
DESCRIPTION:
URL:https://www.uaaan.edu.mx/event/encuentros-deporitvos-futbol-rapido/
LOCATION:Campo Deportivo de la UAAAN\, Calz. Antonio Narro 1923\, Saltillo\, Coah.\, 25315\, México
END:VEVENT
BEGIN:VEVENT
DTSTART;TZID=America/Monterrey:20240302T080000
DTEND;TZID=America/Monterrey:20240302T170000
DTSTAMP:20260421T162340
CREATED:20240222T210616Z
LAST-MODIFIED:20240222T211113Z
UID:10748-1709366400-1709398800@www.uaaan.edu.mx
SUMMARY:Programa del Cierre de Eventos por el Año del Centenario
DESCRIPTION:Encuentros deportivos\nExposición\nPresentación de grupos culturales
URL:https://www.uaaan.edu.mx/event/programa-del-cierre-de-eventos-por-el-ano-del-centenario-4/
LOCATION:Coah.
END:VEVENT
BEGIN:VEVENT
DTSTART;TZID=America/Monterrey:20240303T100000
DTEND;TZID=America/Monterrey:20240303T180000
DTSTAMP:20260421T162340
CREATED:20240222T210755Z
LAST-MODIFIED:20240222T210755Z
UID:10751-1709460000-1709488800@www.uaaan.edu.mx
SUMMARY:Programa del Cierre de Eventos por el Año del Centenario
DESCRIPTION:
URL:https://www.uaaan.edu.mx/event/programa-del-cierre-de-eventos-por-el-ano-del-centenario-5/
LOCATION:Coah.
END:VEVENT
BEGIN:VEVENT
DTSTART;TZID=America/Monterrey:20240304T080000
DTEND;TZID=America/Monterrey:20240304T170000
DTSTAMP:20260421T162340
CREATED:20240222T210923Z
LAST-MODIFIED:20240222T210923Z
UID:10754-1709539200-1709571600@www.uaaan.edu.mx
SUMMARY:Programa del Cierre de Eventos por el Año del Centenario
DESCRIPTION:
URL:https://www.uaaan.edu.mx/event/programa-del-cierre-de-eventos-por-el-ano-del-centenario-6/
LOCATION:Coah.
END:VEVENT
BEGIN:VEVENT
DTSTART;TZID=America/Monterrey:20240304T160000
DTEND;TZID=America/Monterrey:20240304T173000
DTSTAMP:20260421T162340
CREATED:20240226T195549Z
LAST-MODIFIED:20240226T195549Z
UID:10795-1709568000-1709573400@www.uaaan.edu.mx
SUMMARY:Encuentros Deporitvos: Carrera 5k
DESCRIPTION:
URL:https://www.uaaan.edu.mx/event/encuentros-deporitvos-carrera-5k/
LOCATION:Pista Atlética UAAAN\, Calz. Antonio Narro 1923\, Saltillo\, Coah.\, 25315\, México
END:VEVENT
BEGIN:VEVENT
DTSTART;TZID=America/Monterrey:20240314T080000
DTEND;TZID=America/Monterrey:20240314T170000
DTSTAMP:20260421T162340
CREATED:20240314T000549Z
LAST-MODIFIED:20240314T000549Z
UID:10942-1710403200-1710435600@www.uaaan.edu.mx
SUMMARY:Seminario: Departamento de Forestal
DESCRIPTION:
URL:https://www.uaaan.edu.mx/event/seminario-departamento-de-forestal/
LOCATION:Coah.
END:VEVENT
BEGIN:VEVENT
DTSTART;TZID=America/Monterrey:20240315T080000
DTEND;TZID=America/Monterrey:20240315T170000
DTSTAMP:20260421T162340
CREATED:20240314T000834Z
LAST-MODIFIED:20240314T001008Z
UID:10945-1710489600-1710522000@www.uaaan.edu.mx
SUMMARY:Plática Informativa de Servicio Social
DESCRIPTION:
URL:https://www.uaaan.edu.mx/event/platica-informativa-de-servicio-social/
LOCATION:Auditorio Ing. Carlos E. Martínez\, Calzada Antonio Narro 1923\, Saltillo\, Coahuila\, 25315\, México
END:VEVENT
END:VCALENDAR